BEGIN:VCALENDAR
VERSION:2.0
PRODID:-//hacksw/handcal//NONSGML v1.0//EN
BEGIN:VEVENT
SUMMARY:Tournoi
UID:82b4233c-c30e-4d7b-86f2-3efd541bd13a
DTSTART:20241212T230000Z
DTEND:20241213T230000Z
LOCATION:Localisation   
CATEGORIES:Sportif
STATUS:
DESCRIPTION:<p>Le tournoi organise par le club se deroulera dans la
 salle municipale.<br />Les prix seront remis en soiree.</p>
URL;VALUE=URI:https://billard-massy.sportsregions.fr/evenements/2024/12/13/tournoi-2147887
END:VEVENT
END:VCALENDAR
