BEGIN:VCALENDAR
VERSION:2.0
PRODID:-//hacksw/handcal//NONSGML v1.0//EN
BEGIN:VEVENT
SUMMARY:Competition de billard francais 9 quilles – Massy (Essonne)
UID:ca3f6d5a-442d-4006-a812-dbbb0e400582
DTSTART:20260523T070000Z
DTEND:20260523T153000Z
LOCATION:Localisation   
CATEGORIES:Sportif
STATUS:
DESCRIPTION:<p><a
 href="https://www.billard-massy.fr/2026/04/06/3188/" target="_blank"
 rel="noreferrer noopener">Tournoi officiel de billard carambole 9
 quilles organise par le club de Massy, a l’occasion de son 40e
 anniversaire.</a><br>
 Competition ouverte aux joueurs licencies, avec
 phases qualificatives et finales.<br>
 Evenement sportif en Essonne,
 reunissant passionnes de billard
 traditionnel,<br>
 precision,<br>
 strategie<br>
 et performance.
 Ambiance conviviale,<br>
 demonstrations, spectacle sportif<br>
 et
 celebration des 40 ans du club.</p>
URL;VALUE=URI:https://billard-massy.sportsregions.fr/evenements/2026/05/23/competition-de-billard-francais-9-quilles-massy-essonne-2443020
END:VEVENT
END:VCALENDAR
