BEGIN:VCALENDAR
VERSION:2.0
PRODID:-//hacksw/handcal//NONSGML v1.0//EN
BEGIN:VEVENT
SUMMARY:Competition de Billard a 9 Quilles a Massy !
UID:88473530-33fd-4853-bee6-6718783c8fa9
DTSTART:20260523T070000Z
DTEND:20260523T150000Z
LOCATION:Localisation 10 Av. du Noyer Lambert 91300 Massy, Ile-De-France, France
CATEGORIES:Sportif
STATUS:
DESCRIPTION:<article>
 <p><strong>Le samedi 23 mai</strong>, la
 section billard de Massy accueille une competition aussi
 spectaculaire que meconnue : le <strong>billard francais a 9
 quilles</strong>.</p>
 
 <h2> Une discipline unique et
 impressionnante</h2>
 
 <p>Contrairement au billard classique, ici pas
 de trous ni de billes a empocher. Le principe ?</p>
 
 <p>Envoyer la
 bille de l’adversaire dans un jeu de <strong>9 quilles placees au
 centre de la table</strong>, en utilisant les bandes et les
 effets.</p>
 
 <p> Un melange fascinant de strategie, de precision et
 de spectacle, souvent compare a une rencontre entre le billard et le
 bowling !</p>
 
 <h2> Des joueurs de haut niveau a Massy</h2>
 
 <p>Le
 club de Massy peut compter sur des competiteurs experimentes,
 dont <strong>Gianny</strong>,</p>
 
 <p>particulierement en forme et
 capable de viser le podium.</p>
 
 <p><strong> Massy a toutes ses
 chances de briller a domicile !</strong></p>
 
 <h2> Un evenement
 rare… chez nous !</h2>
 
 <p>Le billard a 9 quilles reste une
 discipline peu connue du grand public. Accueillir une telle
 competition a Massy est donc un veritable
 evenement.</p>
 
 <ul>
 	<li> Decouvrir une pratique
 originale</li>
 	<li> Assister a des coups
 spectaculaires</li>
 	<li> Partager un moment
 convivial</li>
 </ul>
 
 <h2> Venez decouvrir !</h2>
 
 <p>Que vous soyez
 amateur de billard ou simplement curieux, <strong>rendez-vous le
 samedi 23 mai a Massy</strong> pour vivre un moment unique
 !</p>
 
 <blockquote>“Un sport spectaculaire ou chaque coup peut tout
 changer !”</blockquote>
 </article>
URL;VALUE=URI:https://billard-massy.sportsregions.fr/evenements/2026/05/23/competition-de-billard-a-9-quilles-a-massy-2442171
END:VEVENT
END:VCALENDAR
